BEGIN:VCALENDAR
VERSION:2.0
PRODID:-//Kanu-Club Wertheim e.V. - ECPv6.15.17.1//NONSGML v1.0//EN
CALSCALE:GREGORIAN
METHOD:PUBLISH
X-WR-CALNAME:Kanu-Club Wertheim e.V.
X-ORIGINAL-URL:https://www.kc-wertheim.de
X-WR-CALDESC:Veranstaltungen für Kanu-Club Wertheim e.V.
REFRESH-INTERVAL;VALUE=DURATION:PT1H
X-Robots-Tag:noindex
X-PUBLISHED-TTL:PT1H
BEGIN:VTIMEZONE
TZID:Europe/Berlin
BEGIN:DAYLIGHT
TZOFFSETFROM:+0100
TZOFFSETTO:+0200
TZNAME:CEST
DTSTART:20250330T010000
END:DAYLIGHT
BEGIN:STANDARD
TZOFFSETFROM:+0200
TZOFFSETTO:+0100
TZNAME:CET
DTSTART:20251026T010000
END:STANDARD
BEGIN:DAYLIGHT
TZOFFSETFROM:+0100
TZOFFSETTO:+0200
TZNAME:CEST
DTSTART:20260329T010000
END:DAYLIGHT
BEGIN:STANDARD
TZOFFSETFROM:+0200
TZOFFSETTO:+0100
TZNAME:CET
DTSTART:20261025T010000
END:STANDARD
BEGIN:DAYLIGHT
TZOFFSETFROM:+0100
TZOFFSETTO:+0200
TZNAME:CEST
DTSTART:20270328T010000
END:DAYLIGHT
BEGIN:STANDARD
TZOFFSETFROM:+0200
TZOFFSETTO:+0100
TZNAME:CET
DTSTART:20271031T010000
END:STANDARD
END:VTIMEZONE
BEGIN:VEVENT
DTSTART;TZID=Europe/Berlin:20260423T080000
DTEND;TZID=Europe/Berlin:20260426T170000
DTSTAMP:20260423T212224
CREATED:20260226T230047Z
LAST-MODIFIED:20260226T235105Z
UID:5733-1776931200-1777222800@www.kc-wertheim.de
SUMMARY:3-Tages-Tour- 'Fränkische Saale bis zum Main'
DESCRIPTION:
URL:https://www.kc-wertheim.de/event/4-tages-tour-fraenkische-saale-bis-zum-main/
ATTACH;FMTTYPE=application/pdf:https://www.kc-wertheim.de/wp-content/uploads/2026/02/Fraenkische-Saale-2026-2.pdf
ORGANIZER;CN="KC Wertheim%2C Leitung Katharina Lampert":MAILTO:gewaesserpate@kc-wertheim.de
END:VEVENT
END:VCALENDAR