BEGIN:VCALENDAR
VERSION:2.0
PRODID:-//Kanu-Club Wertheim e.V. - ECPv6.15.17.1//NONSGML v1.0//EN
CALSCALE:GREGORIAN
METHOD:PUBLISH
X-ORIGINAL-URL:https://www.kc-wertheim.de
X-WR-CALDESC:Veranstaltungen für Kanu-Club Wertheim e.V.
REFRESH-INTERVAL;VALUE=DURATION:PT1H
X-Robots-Tag:noindex
X-PUBLISHED-TTL:PT1H
BEGIN:VTIMEZONE
TZID:Europe/Berlin
BEGIN:DAYLIGHT
TZOFFSETFROM:+0100
TZOFFSETTO:+0200
TZNAME:CEST
DTSTART:20220327T010000
END:DAYLIGHT
BEGIN:STANDARD
TZOFFSETFROM:+0200
TZOFFSETTO:+0100
TZNAME:CET
DTSTART:20221030T010000
END:STANDARD
BEGIN:DAYLIGHT
TZOFFSETFROM:+0100
TZOFFSETTO:+0200
TZNAME:CEST
DTSTART:20230326T010000
END:DAYLIGHT
BEGIN:STANDARD
TZOFFSETFROM:+0200
TZOFFSETTO:+0100
TZNAME:CET
DTSTART:20231029T010000
END:STANDARD
BEGIN:DAYLIGHT
TZOFFSETFROM:+0100
TZOFFSETTO:+0200
TZNAME:CEST
DTSTART:20240331T010000
END:DAYLIGHT
BEGIN:STANDARD
TZOFFSETFROM:+0200
TZOFFSETTO:+0100
TZNAME:CET
DTSTART:20241027T010000
END:STANDARD
END:VTIMEZONE
BEGIN:VEVENT
DTSTART;VALUE=DATE:20230401
DTEND;VALUE=DATE:20230416
DTSTAMP:20260425T154953
CREATED:20230301T113223Z
LAST-MODIFIED:20230301T113223Z
UID:4487-1680307200-1681603199@www.kc-wertheim.de
SUMMARY:WW-Osterausfahrt 2023
DESCRIPTION:Wildwasserwochen des KCW 01\n Ausschreibung als PDF download
URL:https://www.kc-wertheim.de/event/ww-osterausfahrt-2023/
LOCATION:Camping les Platanes\, 3600 route de La Charve\, ROSIÈRES\, 07260\, Frankreich
ORGANIZER;CN="KC Wertheim%2C Leitung Dietrich Liebetanz":MAILTO:heldi.liebetanz@t-online.de
END:VEVENT
BEGIN:VEVENT
DTSTART;VALUE=DATE:20230407
DTEND;VALUE=DATE:20230416
DTSTAMP:20260425T154953
CREATED:20221217T113743Z
LAST-MODIFIED:20221217T113835Z
UID:4343-1680825600-1681603199@www.kc-wertheim.de
SUMMARY:KVBW-Spreewald
DESCRIPTION:KVBW-Spreewald2023\n Ausschreibung als PDF download
URL:https://www.kc-wertheim.de/event/kvbw-spreewald/
LOCATION:Spreewald-Camping Lübben\, Am Burglehn 10\, Lübben (Spreewald)\, 15907\, Deutschland
ORGANIZER;CN="KVBW%3A Leitung Ralf Weinert":MAILTO:wfa-b@kanu-bw.de
END:VEVENT
BEGIN:VEVENT
DTSTART;VALUE=DATE:20230423
DTEND;VALUE=DATE:20230424
DTSTAMP:20260425T154953
CREATED:20230328T155950Z
LAST-MODIFIED:20230328T161556Z
UID:4543-1682208000-1682294399@www.kc-wertheim.de
SUMMARY:Wanderfahrt auf der Wern
DESCRIPTION:Fahrstrecke: von Thüngen bis zur Mündung in den Main 21 km \nWir treffen uns um 9.00 Uhr am Bootshaus. \n( 10.00 Uhr Wernfeld )
URL:https://www.kc-wertheim.de/event/wanderfahrt-auf-der-wern-5/
ATTACH;FMTTYPE=image/jpeg:https://www.kc-wertheim.de/wp-content/uploads/2022/03/Wern-scaled.jpg
ORGANIZER;CN="KC Wertheim%2C Leitung Alfred Schneider":MAILTO:Alfred.Schneider66@gmx.de
END:VEVENT
BEGIN:VEVENT
DTSTART;VALUE=DATE:20230428
DTEND;VALUE=DATE:20230502
DTSTAMP:20260425T154953
CREATED:20230302T113821Z
LAST-MODIFIED:20230302T113821Z
UID:4500-1682640000-1682985599@www.kc-wertheim.de
SUMMARY:Wildwasserfahrt für Anfänger
DESCRIPTION:Wann? \n\n\nVom 28. April bis 1. Mai 2023 \n\n\n\n\nWo? \n\n\nIn Oberbayern \n\n\n\n\nAnkunft? \n\n\nBis Samstag\, 29. April um 9:30 Uhr am Campingplatz. \n\n\n\n\nZeltplatz? \n\n\nAuf dem Campingplatz am Schliersee in Schliersee. Bitte selber am Campingplatz anmelden.  \n\n\n\n\nProgramm? \n\n\nFür alle die mal Wildwasserfahren ausprobieren möchten\, zum Üben und Lernen.\nJe nach Wasserstand auf den untenstehenden Flüssen.  \n\n\n\n\nSchwierigkeit? \n\n\nLeitzach:\nOsterhofen – Wörnsmühle WW I-II (14km) \nThierseer Ache:\nWehr Schmied – Wirsthaus Wacht WW II-III (6km) \nMangfall:\nThalham – Altenburg WW I-II (14km) \nWeißach:\nWildbad Kreuth – Wehr Oberach WW II (III) (8km) \nIsar:\nSylvenstein – Bad Tölz WW I (III) (23km) \n\n\n\nAnmeldeschluß? \n\n\nJede Zelt-/Wohngemeinschaft muss sich selbstständig am Campingplatz anmelden. Plätze sind begrenzt. \n\n\n\n\nFahrtenbesprechung? \n\n\nBei Fragen\, schreibt mir doch eine Mail. \n\n\n\n\nFahrtenleiter? \n\n\nMichael\nKritzler  Telefon: 0 81 02 / 99 86 86 \n\n\n\n\n 
URL:https://www.kc-wertheim.de/event/wildwasserfahrt-fuer-anfaenger-3/
LOCATION:Camping Schliersee\, Westerbergstr. 27\, Schliersee\, 83727\, Deutschland
ORGANIZER;CN="KC Wertheim%2C Leitung Michael Kritzler":MAILTO:michael.kritzler@gmx.de
END:VEVENT
END:VCALENDAR