BEGIN:VCALENDAR
VERSION:2.0
PRODID:-//Kanu-Club Wertheim e.V. - ECPv6.15.17.1//NONSGML v1.0//EN
CALSCALE:GREGORIAN
METHOD:PUBLISH
X-WR-CALNAME:Kanu-Club Wertheim e.V.
X-ORIGINAL-URL:https://www.kc-wertheim.de
X-WR-CALDESC:Veranstaltungen für Kanu-Club Wertheim e.V.
REFRESH-INTERVAL;VALUE=DURATION:PT1H
X-Robots-Tag:noindex
X-PUBLISHED-TTL:PT1H
BEGIN:VTIMEZONE
TZID:Europe/Berlin
BEGIN:DAYLIGHT
TZOFFSETFROM:+0100
TZOFFSETTO:+0200
TZNAME:CEST
DTSTART:20220327T010000
END:DAYLIGHT
BEGIN:STANDARD
TZOFFSETFROM:+0200
TZOFFSETTO:+0100
TZNAME:CET
DTSTART:20221030T010000
END:STANDARD
BEGIN:DAYLIGHT
TZOFFSETFROM:+0100
TZOFFSETTO:+0200
TZNAME:CEST
DTSTART:20230326T010000
END:DAYLIGHT
BEGIN:STANDARD
TZOFFSETFROM:+0200
TZOFFSETTO:+0100
TZNAME:CET
DTSTART:20231029T010000
END:STANDARD
BEGIN:DAYLIGHT
TZOFFSETFROM:+0100
TZOFFSETTO:+0200
TZNAME:CEST
DTSTART:20240331T010000
END:DAYLIGHT
BEGIN:STANDARD
TZOFFSETFROM:+0200
TZOFFSETTO:+0100
TZNAME:CET
DTSTART:20241027T010000
END:STANDARD
END:VTIMEZONE
BEGIN:VEVENT
DTSTART;VALUE=DATE:20230428
DTEND;VALUE=DATE:20230502
DTSTAMP:20260425T140820
CREATED:20230302T113821Z
LAST-MODIFIED:20230302T113821Z
UID:4500-1682640000-1682985599@www.kc-wertheim.de
SUMMARY:Wildwasserfahrt für Anfänger
DESCRIPTION:Wann? \n\n\nVom 28. April bis 1. Mai 2023 \n\n\n\n\nWo? \n\n\nIn Oberbayern \n\n\n\n\nAnkunft? \n\n\nBis Samstag\, 29. April um 9:30 Uhr am Campingplatz. \n\n\n\n\nZeltplatz? \n\n\nAuf dem Campingplatz am Schliersee in Schliersee. Bitte selber am Campingplatz anmelden.  \n\n\n\n\nProgramm? \n\n\nFür alle die mal Wildwasserfahren ausprobieren möchten\, zum Üben und Lernen.\nJe nach Wasserstand auf den untenstehenden Flüssen.  \n\n\n\n\nSchwierigkeit? \n\n\nLeitzach:\nOsterhofen – Wörnsmühle WW I-II (14km) \nThierseer Ache:\nWehr Schmied – Wirsthaus Wacht WW II-III (6km) \nMangfall:\nThalham – Altenburg WW I-II (14km) \nWeißach:\nWildbad Kreuth – Wehr Oberach WW II (III) (8km) \nIsar:\nSylvenstein – Bad Tölz WW I (III) (23km) \n\n\n\nAnmeldeschluß? \n\n\nJede Zelt-/Wohngemeinschaft muss sich selbstständig am Campingplatz anmelden. Plätze sind begrenzt. \n\n\n\n\nFahrtenbesprechung? \n\n\nBei Fragen\, schreibt mir doch eine Mail. \n\n\n\n\nFahrtenleiter? \n\n\nMichael\nKritzler  Telefon: 0 81 02 / 99 86 86 \n\n\n\n\n 
URL:https://www.kc-wertheim.de/event/wildwasserfahrt-fuer-anfaenger-3/
LOCATION:Camping Schliersee\, Westerbergstr. 27\, Schliersee\, 83727\, Deutschland
ORGANIZER;CN="KC Wertheim%2C Leitung Michael Kritzler":MAILTO:michael.kritzler@gmx.de
END:VEVENT
BEGIN:VEVENT
DTSTART;VALUE=DATE:20230505
DTEND;VALUE=DATE:20230508
DTSTAMP:20260425T140820
CREATED:20230209T164258Z
LAST-MODIFIED:20230209T164258Z
UID:4400-1683244800-1683503999@www.kc-wertheim.de
SUMMARY:Verbandsfahrt in Illingen
DESCRIPTION:Verbandsfahrt_Illingen 2023\n Ausschreibung als PDF download
URL:https://www.kc-wertheim.de/event/verbandsfahrt-in-illingen/
LOCATION:Paddelclub Illingen\, Am Goldkanal 1\, Elchesheim-Illingen\, 76477
ORGANIZER;CN="KVBW Vizepr%C3%A4sidentin Kanuwandern Constanze Weigl":MAILTO:wandersport@kanu-bw.de
END:VEVENT
BEGIN:VEVENT
DTSTART;VALUE=DATE:20230513
DTEND;VALUE=DATE:20230526
DTSTAMP:20260425T140820
CREATED:20230213T122338Z
LAST-MODIFIED:20230417T122009Z
UID:4423-1683936000-1685059199@www.kc-wertheim.de
SUMMARY:Weser 2023 Achtung Terminänderung
DESCRIPTION:von Hann.Münden nach Bremen\nAchtung Terminänderung\nDie Gepäckfahrt eignet sich nur für Paddler mit entsprechender Kondition. Es müssen teilweise bis zu 46 Tageskilometer bewältigt werden. Insgesamt paddeln wir eine Strecke von 365 km.\nDie Anzahl der Teilnehmer ist auf 10 begrenzt. Bei der Anmeldung gilt das Windhundverfahren. \nSamstag 13.05.2023:  Anreise nach Hann. Münden \n➡    Mündener Kanu-Club e. V. \n➡    Anfahrt    \n➡   Koordinaten:  51°24’37.3″N 9°38’55.6″E  oder  51.410361\, 9.648778 \n  \nWir beginnen unsere Gepäckfahrt am Sonntag 14.05.2023.\nBitte beachtet\, dass Ihr bereits am Samstag 13.05.2023 in Hann. Münden anreist.\nUnsere Autos parken wir auf einem gebührenfreien Parklatz in der Nähe des Bahnhofs. \nWir erreichen unser Ziel in Bremen/Hemelingen am Samstag 23. Mai 2023. Am nächsten Tag  fahren wir mit dem Zug nach Hann. Münden und holen unsere Autos. Ich empfehle Euch noch einmal in Bremen zu übernachten und dann am Donnerstag 25. Juni nach Hause zu fahren. \nAnmeldung bitte  bis Mittwoch 03..Mai 2023 per Email oder Telefon. \nEine Fahrtenbesprechung wird nicht stattfinden. Ihr erhaltet vorab per E-Mail alle notwendigen Informationen mit einer detaillierten Auflistung der Etappen.
URL:https://www.kc-wertheim.de/event/weser-2023/
LOCATION:Mündener Kanu-Club\, Walter-Diestel-Weg 1\, Hann.-Münden\, 34346\, Deutschland
ORGANIZER;CN="KC Wertheim%2C Leitung Peter Podraza":MAILTO:peter.podraza@t-online.de
END:VEVENT
BEGIN:VEVENT
DTSTART;VALUE=DATE:20230514
DTEND;VALUE=DATE:20230521
DTSTAMP:20260425T140820
CREATED:20230218T121130Z
LAST-MODIFIED:20230417T120800Z
UID:4452-1684022400-1684627199@www.kc-wertheim.de
SUMMARY:Fulda 2023 ENTFÄLLT
DESCRIPTION:Die Fahrt findet nicht statt\nvon Bad Hersfeld nach Hann.Münden\nDie Gepäckfahrt  hat insgesamt 120 km. Die Tagesetapen sind zwischen 22 und 26 km.\nDie Anzahl der Teilnehmer ist auf 10 begrenzt. Bei der Anmeldung gilt das Windhundverfahren. \nSonntag 14.05. :  Anreise nach Bad Hersfeld \n➡    Kanuwanderer Bad Hersfeld  \n➡    Anfahrt    \n➡   Koordinaten:  50.853638°  9.701877° \nWir beginnen unsere Gepäckfahrt am Montag 15.05.2023. \nWir erreichen unser Ziel in beim am Mündener HC am Samstag 20. 05.2022. \nAm nächsten Tag  fahren wir mit dem Zug nach Bad Hersfeld und holen unsere Autos\nund treten dann die Heimreise an. \nAnmeldung bitte  bis Samstag 06.05.2023 per Email oder Telefon. \nEine Fahrtenbesprechung wird nicht stattfinden. Ihr erhaltet vorab per E-Mail alle notwendigen Informationen mit einer detaillierten Auflistung der Etappen.
URL:https://www.kc-wertheim.de/event/fulda-2023/
LOCATION:Kanuwanderer Bad Hersfeld\, Vorm Laufholz\, Bad Hersfeld\, Hessen\, 36251\, Deutschland
ORGANIZER;CN="KC Wertheim%2C Leitung Peter Podraza":MAILTO:peter.podraza@t-online.de
END:VEVENT
BEGIN:VEVENT
DTSTART;TZID=Europe/Berlin:20230520T123000
DTEND;TZID=Europe/Berlin:20230520T163000
DTSTAMP:20260425T140820
CREATED:20230508T191157Z
LAST-MODIFIED:20230508T191157Z
UID:4592-1684585800-1684600200@www.kc-wertheim.de
SUMMARY:Schnuppertag der Jugend
DESCRIPTION:Spaß an und auf dem Wasser – Schnuppertag der Jugend des Kanu Club Wertheim (KCW) für Kinder von 7 bis 12 Jahren.\nWertheim. Ob Touren oder Kanuspiele auf dem Wasser oder auch mal an Land\, der Kanu Sport ist vielseitig und garantiert Kindern\, die gerne draußen sind\, viel Spaß.In der Jugendabteilung des Kanu Club Wertheim (KCW) können die Kinder das Paddeln unter fachkundiger Anleitung mit viel Spaß lernen\, außerdem gibt es im Training abwechslungsreiche Spiele und die Kinder machen zusammen mit ihren Betreuern Ausflüge. \nDie KCW-Jugend lädt Kinder von 7 bis 12 Jahren am Samstag\, den 20. Mai 2023 von 12.30-16.30 Uhr zu einem besonderen Schnuppertag ein. Eine Anmeldung ist erforderlich. \nSie erleben dort zum Beispiel ein besonderes Geocaching zu Wasser und auf dem Land\, können das Paddeln spielerisch ausprobieren und haben Spaß bei Kanuspielen auf und am Wasser. \nTreffpunkt ist das Bootshaus des KCW zwischen Wertheim und Eichel. \nVoraussetzung für eine Teilnahme ist\, dass die Kinder sicher schwimmen können. \nEine Anmeldung bis zum 17. Mai 2023 möglich. Die Teilnehmerzahl ist begrenzt. \nKontakt für Anmeldung und Rückfragen: \nBirger-Daniel Grein\, Tel. 0157-52939647\, E-Mail: jugend@kc-wertheim.de \nMitzubringen zum Schnuppertag sind: komplette Wechselkleidung\, Handtuch und eine Trinkflasche. \nWer am Schnuppertag keine Zeit hat\, kann auch gerne beim regulären Training hineinschnuppern. Ansprechpartner ist auch hier Birger-Daniel Grein. \nFoto: Der Kanu Sport ist vielfältig und bieten Kindern viele Möglichkeiten. Bei einem Schnuppertag der Jugend des Kanu Club Wertheim können sie sich begeistern lassen.
URL:https://www.kc-wertheim.de/event/schnuppertag-der-jugend/
LOCATION:Kanu-Club Wertheim\, Würzburger Str. 29\, Wertheim\, 97877\, Deutschland
ORGANIZER;CN="KC Wertheim%2C Jugendabteilung":MAILTO:jugend@kc-wertheim.de
END:VEVENT
BEGIN:VEVENT
DTSTART;VALUE=DATE:20230526
DTEND;VALUE=DATE:20230530
DTSTAMP:20260425T140820
CREATED:20230315T143927Z
LAST-MODIFIED:20230315T144046Z
UID:4517-1685059200-1685404799@www.kc-wertheim.de
SUMMARY:Pfingstfahrt auf der Donau
DESCRIPTION:Zeltplatz:\nStraubinger Kanu-Club e.V.\nKagerser Hauptstraße 44\n94315 Straubing\n\n\nProgramm:\n\n\n\n\nRegensburger KC (km 2381\,7) – Staustufe Geisling (km 2354\,0)\nalternativ bis Kiefernholz (km 2358\,1)\n28 km\n(24 km)\n\n\n Straubing (2321\,7) – Deggendorf (km 2285\,9)\n36 km\n\n\nStaustufe Geisling (km 2354\,0) – Straubing (2327\,5)\nalternativ ab Kiefernholz (km 2358\,1)\nalternativ ab Pfatter-Irling (km 2346\,0)\n27 km\n(31 km)\n(19 km)\n\n\n\n\n\n\nBesprechung:\nMittwoch\, 24. Mai 2023 20:00 Uhr im Bootshaus.\n\n\nAnmeldung:\nBis 14. Mai 2023 auf im Bootshaus aushängender Liste oder schriftlich bei Bruno Nicke.
URL:https://www.kc-wertheim.de/event/pfingstfahrt-auf-der-donau/
LOCATION:Straubinger Kanu-Club\, Kagerser Hauptstraße 44\, Straubing\, 94315\, Deutschland
ORGANIZER;CN="KC Wertheim%2C Leitung Bruno Nicke":MAILTO:wanderwart@kc-wertheim.de
END:VEVENT
END:VCALENDAR