BEGIN:VCALENDAR
VERSION:2.0
PRODID:-//Kanu-Club Wertheim e.V. - ECPv6.15.17.1//NONSGML v1.0//EN
CALSCALE:GREGORIAN
METHOD:PUBLISH
X-ORIGINAL-URL:https://www.kc-wertheim.de
X-WR-CALDESC:Veranstaltungen für Kanu-Club Wertheim e.V.
REFRESH-INTERVAL;VALUE=DURATION:PT1H
X-Robots-Tag:noindex
X-PUBLISHED-TTL:PT1H
BEGIN:VTIMEZONE
TZID:Europe/Berlin
BEGIN:DAYLIGHT
TZOFFSETFROM:+0100
TZOFFSETTO:+0200
TZNAME:CEST
DTSTART:20220327T010000
END:DAYLIGHT
BEGIN:STANDARD
TZOFFSETFROM:+0200
TZOFFSETTO:+0100
TZNAME:CET
DTSTART:20221030T010000
END:STANDARD
BEGIN:DAYLIGHT
TZOFFSETFROM:+0100
TZOFFSETTO:+0200
TZNAME:CEST
DTSTART:20230326T010000
END:DAYLIGHT
BEGIN:STANDARD
TZOFFSETFROM:+0200
TZOFFSETTO:+0100
TZNAME:CET
DTSTART:20231029T010000
END:STANDARD
BEGIN:DAYLIGHT
TZOFFSETFROM:+0100
TZOFFSETTO:+0200
TZNAME:CEST
DTSTART:20240331T010000
END:DAYLIGHT
BEGIN:STANDARD
TZOFFSETFROM:+0200
TZOFFSETTO:+0100
TZNAME:CET
DTSTART:20241027T010000
END:STANDARD
END:VTIMEZONE
BEGIN:VEVENT
DTSTART;VALUE=DATE:20230616
DTEND;VALUE=DATE:20230619
DTSTAMP:20260425T155009
CREATED:20230522T171955Z
LAST-MODIFIED:20230522T171955Z
UID:4623-1686873600-1687132799@www.kc-wertheim.de
SUMMARY:Verbandsfahrt Bodensee 2023
DESCRIPTION:KVBW-Verbandsfahrt_Bodensee\n Ausschreibung als PDF download
URL:https://www.kc-wertheim.de/event/verbandsfahrt-bodensee-2023/
LOCATION:Kanu-Club Singen\, Strandbadstraße 17\, Moos\, 78345
ORGANIZER;CN="KVBW Vizepr%C3%A4sidentin Kanuwandern Constanze Weigl":MAILTO:wandersport@kanu-bw.de
END:VEVENT
END:VCALENDAR